BEGIN:VCALENDAR
VERSION:2.0
PRODID:-//Laugh Out Lounge - ECPv6.15.20//NONSGML v1.0//EN
CALSCALE:GREGORIAN
METHOD:PUBLISH
X-WR-CALNAME:Laugh Out Lounge
X-ORIGINAL-URL:https://winterhavenlol.com
X-WR-CALDESC:Events for Laugh Out Lounge
REFRESH-INTERVAL;VALUE=DURATION:PT1H
X-Robots-Tag:noindex
X-PUBLISHED-TTL:PT1H
BEGIN:VTIMEZONE
TZID:UTC
BEGIN:STANDARD
TZOFFSETFROM:+0000
TZOFFSETTO:+0000
TZNAME:UTC
DTSTART:20210101T000000
END:STANDARD
END:VTIMEZONE
BEGIN:VEVENT
DTSTART;TZID=UTC:20220522T190000
DTEND;TZID=UTC:20220522T210000
DTSTAMP:20260425T213913
CREATED:20220502T205423Z
LAST-MODIFIED:20220502T205423Z
UID:1685-1653246000-1653253200@winterhavenlol.com
SUMMARY:Spunky Sundays! May 22nd
DESCRIPTION:Get Tickets Here!\n\n\n\nDevin SieboldAs seen on:   Bored Teachers\, Comedy Central\, FOX\n\n\n\nClick to Learn More: \n\nDevin Siebold is a comedy force to be reckoned with. Devin has been named 2015 iHeartMedia Monster’s in the Morning Comedian of the Year\, won the Boston World Series of Comedy\, appeared on Laughs on FOX\, won Side Splitters Comedian of the Year 2014\, been selected for Comedy Central Up Next\, Florida Top 10 College Picks\, and a semi-finalist in Florida’s Funniest Comedian. Devin delivers an endless supply of intelligent\, clean humor that appeals to all demographics. He has a unique wit-filled style to his delivery and will leave audiences engaged and rolling with laughter. He prides himself on being highly original and thought provoking and pulls material from his unbelievable past dating experience\, love of theme parks\, and spending his past 10 years as a middle/high school teacher in Florida. He has opened for Peter Cetera\, Gilbert Gottfried\, Pauly Shore\, Nick DiPaolo\, Adam Ferrara\, Loni Love\, Chris D’Elia\, Ralphie May\, and many others. He tours nationally and works all the major comedy club brands in the US. Devin has headlined many private communities\, and had the pleasure of performing corporate events for the annual meetings of Clinicon\, Narcotics Anonymous\, and headlining the National Firefighters Convention in Indianapolis. Event Details: Date: Saturday June 3rd (one night only) Showtime: 8pm Doors: 7pm Tickets: General Admission: $20 in advance\, $30 at the door \n\n\n\n	\n\n	\n		\n	\n\n\nGet your tickets now! [Click Here]
URL:https://winterhavenlol.com/event/spunky-sundays-may-22nd/
LOCATION:Laugh Out Lounge\, 19 3rd Street NW\, Winter Haven\, FL\, 33881\, United States
CATEGORIES:Open Mic Wednesdays
ATTACH;FMTTYPE=image/png:https://winterhavenlol.com/wp-content/uploads/2022/05/Spunky-Sundays-5-22.png
ORGANIZER;CN="Laugh Out Lounge":MAILTO:maccentralllc@gmail.com
END:VEVENT
BEGIN:VEVENT
DTSTART;TZID=UTC:20220520T200000
DTEND;TZID=UTC:20220521T200000
DTSTAMP:20260425T213913
CREATED:20220421T172113Z
LAST-MODIFIED:20220421T172251Z
UID:1654-1653076800-1653163200@winterhavenlol.com
SUMMARY:Rauce Padgett | May 20-21
DESCRIPTION:Get Tickets Here!\n\n\n\nDevin SieboldAs seen on:   Bored Teachers\, Comedy Central\, FOX\n\n\n\nClick to Learn More: \n\nDevin Siebold is a comedy force to be reckoned with. Devin has been named 2015 iHeartMedia Monster’s in the Morning Comedian of the Year\, won the Boston World Series of Comedy\, appeared on Laughs on FOX\, won Side Splitters Comedian of the Year 2014\, been selected for Comedy Central Up Next\, Florida Top 10 College Picks\, and a semi-finalist in Florida’s Funniest Comedian. Devin delivers an endless supply of intelligent\, clean humor that appeals to all demographics. He has a unique wit-filled style to his delivery and will leave audiences engaged and rolling with laughter. He prides himself on being highly original and thought provoking and pulls material from his unbelievable past dating experience\, love of theme parks\, and spending his past 10 years as a middle/high school teacher in Florida. He has opened for Peter Cetera\, Gilbert Gottfried\, Pauly Shore\, Nick DiPaolo\, Adam Ferrara\, Loni Love\, Chris D’Elia\, Ralphie May\, and many others. He tours nationally and works all the major comedy club brands in the US. Devin has headlined many private communities\, and had the pleasure of performing corporate events for the annual meetings of Clinicon\, Narcotics Anonymous\, and headlining the National Firefighters Convention in Indianapolis. Event Details: Date: Saturday June 3rd (one night only) Showtime: 8pm Doors: 7pm Tickets: General Admission: $20 in advance\, $30 at the door \n\n\n\n	\n\n	\n		\n	\n\n\nGet your tickets now! [Click Here]
URL:https://winterhavenlol.com/event/rauce-padgett/
LOCATION:Laugh Out Lounge\, 19 3rd Street NW\, Winter Haven\, FL\, 33881\, United States
CATEGORIES:Stand Up Comedian
ATTACH;FMTTYPE=image/png:https://winterhavenlol.com/wp-content/uploads/2022/04/Rauce-Padgett.png
ORGANIZER;CN="Laugh Out Lounge":MAILTO:maccentralllc@gmail.com
END:VEVENT
BEGIN:VEVENT
DTSTART;TZID=UTC:20220513T200000
DTEND;TZID=UTC:20220514T200000
DTSTAMP:20260425T213913
CREATED:20220404T210213Z
LAST-MODIFIED:20220509T172351Z
UID:1643-1652472000-1652558400@winterhavenlol.com
SUMMARY:Alex U | May 13-14
DESCRIPTION:Get Tickets Here!\n\n\n\nDevin SieboldAs seen on:   Bored Teachers\, Comedy Central\, FOX\n\n\n\nClick to Learn More: \n\nDevin Siebold is a comedy force to be reckoned with. Devin has been named 2015 iHeartMedia Monster’s in the Morning Comedian of the Year\, won the Boston World Series of Comedy\, appeared on Laughs on FOX\, won Side Splitters Comedian of the Year 2014\, been selected for Comedy Central Up Next\, Florida Top 10 College Picks\, and a semi-finalist in Florida’s Funniest Comedian. Devin delivers an endless supply of intelligent\, clean humor that appeals to all demographics. He has a unique wit-filled style to his delivery and will leave audiences engaged and rolling with laughter. He prides himself on being highly original and thought provoking and pulls material from his unbelievable past dating experience\, love of theme parks\, and spending his past 10 years as a middle/high school teacher in Florida. He has opened for Peter Cetera\, Gilbert Gottfried\, Pauly Shore\, Nick DiPaolo\, Adam Ferrara\, Loni Love\, Chris D’Elia\, Ralphie May\, and many others. He tours nationally and works all the major comedy club brands in the US. Devin has headlined many private communities\, and had the pleasure of performing corporate events for the annual meetings of Clinicon\, Narcotics Anonymous\, and headlining the National Firefighters Convention in Indianapolis. Event Details: Date: Saturday June 3rd (one night only) Showtime: 8pm Doors: 7pm Tickets: General Admission: $20 in advance\, $30 at the door \n\n\n\n	\n\n	\n		\n	\n\n\nGet your tickets now! [Click Here]
URL:https://winterhavenlol.com/event/alex-u/
LOCATION:Laugh Out Lounge\, 19 3rd Street NW\, Winter Haven\, FL\, 33881\, United States
CATEGORIES:Stand Up Comedian
ATTACH;FMTTYPE=image/png:https://winterhavenlol.com/wp-content/uploads/2022/04/Alex-U.png
ORGANIZER;CN="Laugh Out Lounge":MAILTO:maccentralllc@gmail.com
END:VEVENT
BEGIN:VEVENT
DTSTART;TZID=UTC:20220506T200000
DTEND;TZID=UTC:20220507T200000
DTSTAMP:20260425T213913
CREATED:20220404T205353Z
LAST-MODIFIED:20220509T165655Z
UID:1638-1651867200-1651953600@winterhavenlol.com
SUMMARY:Killer Beaz | May 6-7
DESCRIPTION:Get Tickets Here!\n\n\n\nDevin SieboldAs seen on:   Bored Teachers\, Comedy Central\, FOX\n\n\n\nClick to Learn More: \n\nDevin Siebold is a comedy force to be reckoned with. Devin has been named 2015 iHeartMedia Monster’s in the Morning Comedian of the Year\, won the Boston World Series of Comedy\, appeared on Laughs on FOX\, won Side Splitters Comedian of the Year 2014\, been selected for Comedy Central Up Next\, Florida Top 10 College Picks\, and a semi-finalist in Florida’s Funniest Comedian. Devin delivers an endless supply of intelligent\, clean humor that appeals to all demographics. He has a unique wit-filled style to his delivery and will leave audiences engaged and rolling with laughter. He prides himself on being highly original and thought provoking and pulls material from his unbelievable past dating experience\, love of theme parks\, and spending his past 10 years as a middle/high school teacher in Florida. He has opened for Peter Cetera\, Gilbert Gottfried\, Pauly Shore\, Nick DiPaolo\, Adam Ferrara\, Loni Love\, Chris D’Elia\, Ralphie May\, and many others. He tours nationally and works all the major comedy club brands in the US. Devin has headlined many private communities\, and had the pleasure of performing corporate events for the annual meetings of Clinicon\, Narcotics Anonymous\, and headlining the National Firefighters Convention in Indianapolis. Event Details: Date: Saturday June 3rd (one night only) Showtime: 8pm Doors: 7pm Tickets: General Admission: $20 in advance\, $30 at the door \n\n\n\n	\n\n	\n		\n	\n\n\nGet your tickets now! [Click Here]
URL:https://winterhavenlol.com/event/killer-beaz/
LOCATION:Laugh Out Lounge\, 19 3rd Street NW\, Winter Haven\, FL\, 33881\, United States
CATEGORIES:Stand Up Comedian
ATTACH;FMTTYPE=image/png:https://winterhavenlol.com/wp-content/uploads/2022/04/Killer-Beaz.png
ORGANIZER;CN="Laugh Out Lounge":MAILTO:maccentralllc@gmail.com
END:VEVENT
BEGIN:VEVENT
DTSTART;TZID=UTC:20220429T200000
DTEND;TZID=UTC:20220430T200000
DTSTAMP:20260425T213913
CREATED:20220321T225750Z
LAST-MODIFIED:20220509T165655Z
UID:1624-1651262400-1651348800@winterhavenlol.com
SUMMARY:Chad Zumock | April 29-30
DESCRIPTION:Get Tickets Here!\n\n\n\nDevin SieboldAs seen on:   Bored Teachers\, Comedy Central\, FOX\n\n\n\nClick to Learn More: \n\nDevin Siebold is a comedy force to be reckoned with. Devin has been named 2015 iHeartMedia Monster’s in the Morning Comedian of the Year\, won the Boston World Series of Comedy\, appeared on Laughs on FOX\, won Side Splitters Comedian of the Year 2014\, been selected for Comedy Central Up Next\, Florida Top 10 College Picks\, and a semi-finalist in Florida’s Funniest Comedian. Devin delivers an endless supply of intelligent\, clean humor that appeals to all demographics. He has a unique wit-filled style to his delivery and will leave audiences engaged and rolling with laughter. He prides himself on being highly original and thought provoking and pulls material from his unbelievable past dating experience\, love of theme parks\, and spending his past 10 years as a middle/high school teacher in Florida. He has opened for Peter Cetera\, Gilbert Gottfried\, Pauly Shore\, Nick DiPaolo\, Adam Ferrara\, Loni Love\, Chris D’Elia\, Ralphie May\, and many others. He tours nationally and works all the major comedy club brands in the US. Devin has headlined many private communities\, and had the pleasure of performing corporate events for the annual meetings of Clinicon\, Narcotics Anonymous\, and headlining the National Firefighters Convention in Indianapolis. Event Details: Date: Saturday June 3rd (one night only) Showtime: 8pm Doors: 7pm Tickets: General Admission: $20 in advance\, $30 at the door \n\n\n\n	\n\n	\n		\n	\n\n\nGet your tickets now! [Click Here]
URL:https://winterhavenlol.com/event/chad-zumock/
LOCATION:Laugh Out Lounge\, 19 3rd Street NW\, Winter Haven\, FL\, 33881\, United States
CATEGORIES:Stand Up Comedian
ATTACH;FMTTYPE=image/png:https://winterhavenlol.com/wp-content/uploads/2022/03/Chad-Zumock-4-29.png
ORGANIZER;CN="Laugh Out Lounge":MAILTO:maccentralllc@gmail.com
END:VEVENT
BEGIN:VEVENT
DTSTART;TZID=UTC:20220424T190000
DTEND;TZID=UTC:20220424T210000
DTSTAMP:20260425T213913
CREATED:20220321T224702Z
LAST-MODIFIED:20220509T165655Z
UID:1619-1650826800-1650834000@winterhavenlol.com
SUMMARY:Spunky Sundays! April 24th
DESCRIPTION:Get Tickets Here!\n\n\n\nDevin SieboldAs seen on:   Bored Teachers\, Comedy Central\, FOX\n\n\n\nClick to Learn More: \n\nDevin Siebold is a comedy force to be reckoned with. Devin has been named 2015 iHeartMedia Monster’s in the Morning Comedian of the Year\, won the Boston World Series of Comedy\, appeared on Laughs on FOX\, won Side Splitters Comedian of the Year 2014\, been selected for Comedy Central Up Next\, Florida Top 10 College Picks\, and a semi-finalist in Florida’s Funniest Comedian. Devin delivers an endless supply of intelligent\, clean humor that appeals to all demographics. He has a unique wit-filled style to his delivery and will leave audiences engaged and rolling with laughter. He prides himself on being highly original and thought provoking and pulls material from his unbelievable past dating experience\, love of theme parks\, and spending his past 10 years as a middle/high school teacher in Florida. He has opened for Peter Cetera\, Gilbert Gottfried\, Pauly Shore\, Nick DiPaolo\, Adam Ferrara\, Loni Love\, Chris D’Elia\, Ralphie May\, and many others. He tours nationally and works all the major comedy club brands in the US. Devin has headlined many private communities\, and had the pleasure of performing corporate events for the annual meetings of Clinicon\, Narcotics Anonymous\, and headlining the National Firefighters Convention in Indianapolis. Event Details: Date: Saturday June 3rd (one night only) Showtime: 8pm Doors: 7pm Tickets: General Admission: $20 in advance\, $30 at the door \n\n\n\n	\n\n	\n		\n	\n\n\nGet your tickets now! [Click Here]
URL:https://winterhavenlol.com/event/spunky-sundays-april-24th/
LOCATION:Laugh Out Lounge\, 19 3rd Street NW\, Winter Haven\, FL\, 33881\, United States
CATEGORIES:Open Mic Wednesdays
ATTACH;FMTTYPE=image/png:https://winterhavenlol.com/wp-content/uploads/2022/03/Spunky-April-24th.png
ORGANIZER;CN="Laugh Out Lounge":MAILTO:maccentralllc@gmail.com
END:VEVENT
BEGIN:VEVENT
DTSTART;TZID=UTC:20220422T200000
DTEND;TZID=UTC:20220423T200000
DTSTAMP:20260425T213913
CREATED:20220313T183852Z
LAST-MODIFIED:20220509T165655Z
UID:1605-1650657600-1650744000@winterhavenlol.com
SUMMARY:Rob Little | April 22-23
DESCRIPTION:Get Tickets Here!\n\n\n\nDevin SieboldAs seen on:   Bored Teachers\, Comedy Central\, FOX\n\n\n\nClick to Learn More: \n\nDevin Siebold is a comedy force to be reckoned with. Devin has been named 2015 iHeartMedia Monster’s in the Morning Comedian of the Year\, won the Boston World Series of Comedy\, appeared on Laughs on FOX\, won Side Splitters Comedian of the Year 2014\, been selected for Comedy Central Up Next\, Florida Top 10 College Picks\, and a semi-finalist in Florida’s Funniest Comedian. Devin delivers an endless supply of intelligent\, clean humor that appeals to all demographics. He has a unique wit-filled style to his delivery and will leave audiences engaged and rolling with laughter. He prides himself on being highly original and thought provoking and pulls material from his unbelievable past dating experience\, love of theme parks\, and spending his past 10 years as a middle/high school teacher in Florida. He has opened for Peter Cetera\, Gilbert Gottfried\, Pauly Shore\, Nick DiPaolo\, Adam Ferrara\, Loni Love\, Chris D’Elia\, Ralphie May\, and many others. He tours nationally and works all the major comedy club brands in the US. Devin has headlined many private communities\, and had the pleasure of performing corporate events for the annual meetings of Clinicon\, Narcotics Anonymous\, and headlining the National Firefighters Convention in Indianapolis. Event Details: Date: Saturday June 3rd (one night only) Showtime: 8pm Doors: 7pm Tickets: General Admission: $20 in advance\, $30 at the door \n\n\n\n	\n\n	\n		\n	\n\n\nGet your tickets now! [Click Here]
URL:https://winterhavenlol.com/event/rob-little/
LOCATION:Laugh Out Lounge\, 19 3rd Street NW\, Winter Haven\, FL\, 33881\, United States
CATEGORIES:Stand Up Comedian
ATTACH;FMTTYPE=image/png:https://winterhavenlol.com/wp-content/uploads/2022/03/Rob-Little-no-Text.png
ORGANIZER;CN="Laugh Out Lounge":MAILTO:maccentralllc@gmail.com
END:VEVENT
END:VCALENDAR