BEGIN:VCALENDAR
VERSION:2.0
PRODID:-//Laugh Out Lounge - ECPv6.15.20//NONSGML v1.0//EN
CALSCALE:GREGORIAN
METHOD:PUBLISH
X-ORIGINAL-URL:https://winterhavenlol.com
X-WR-CALDESC:Events for Laugh Out Lounge
REFRESH-INTERVAL;VALUE=DURATION:PT1H
X-Robots-Tag:noindex
X-PUBLISHED-TTL:PT1H
BEGIN:VTIMEZONE
TZID:America/New_York
BEGIN:DAYLIGHT
TZOFFSETFROM:-0500
TZOFFSETTO:-0400
TZNAME:EDT
DTSTART:20220313T070000
END:DAYLIGHT
BEGIN:STANDARD
TZOFFSETFROM:-0400
TZOFFSETTO:-0500
TZNAME:EST
DTSTART:20221106T060000
END:STANDARD
BEGIN:DAYLIGHT
TZOFFSETFROM:-0500
TZOFFSETTO:-0400
TZNAME:EDT
DTSTART:20230312T070000
END:DAYLIGHT
BEGIN:STANDARD
TZOFFSETFROM:-0400
TZOFFSETTO:-0500
TZNAME:EST
DTSTART:20231105T060000
END:STANDARD
BEGIN:DAYLIGHT
TZOFFSETFROM:-0500
TZOFFSETTO:-0400
TZNAME:EDT
DTSTART:20240310T070000
END:DAYLIGHT
BEGIN:STANDARD
TZOFFSETFROM:-0400
TZOFFSETTO:-0500
TZNAME:EST
DTSTART:20241103T060000
END:STANDARD
END:VTIMEZONE
BEGIN:VEVENT
DTSTART;TZID=America/New_York:20230621T200000
DTEND;TZID=America/New_York:20230621T220000
DTSTAMP:20260423T025243
CREATED:20230620T125253Z
LAST-MODIFIED:20230620T125912Z
UID:2959-1687377600-1687384800@winterhavenlol.com
SUMMARY:Open Mic Night!
DESCRIPTION:Get Tickets Here!\n\n\n\nKevin FarleyAs seen on:    Black Sheep and Waterboy (with his brother Chris) \n\n\n\nClick to Learn More: \n\nKevin Farley has been bringing his signature brand of upbeat entertainment to fans around the world for over three decades. Kevin got his start studying at the famous Second City in Chicago. Soon after he starred in films such as Black Sheep (with his brother Chris) and The Waterboy (with Adam Sandler)\, and leading roles in An American Carol and White Knight. He has made guest appearances on Curb Your Enthusiasm\, Rules of Engagement\, Just Shoot Me and Comedy Central's Drunk History to name a few. Kevin has hosted many live shows and events and has been featured Nationally on The Today Show\, The View\, Extra\, Good Morning America and radio shows from coast to coast. Event Details: Date: Friday and Saturday February 23rd & 24th Showtime: 8pm Doors Open: 7pm Tickets: General Admission: $25 in advance ($35 at the door) Restrictions: All sales are final. No refunds. Must be 21+ to enter. Seating and Promo Codes: We offer choose your own seats through Eventbrite. If you do not choose your own seats\, the best available seats will be chosen for you. Be sure to enter any promo codes BEFORE selecting your seats. All walk ups the night of the show are first come\, first served. Two item minimum per person. Alcohol\, chips\, soda\, candy and merchandise count toward minimum. Bottled water does not count towards minimum. An additional charge of $10 will be applied to your tab for each person who does not meet the two item requirement. Must present confirmation email or QR code the night of the show for admission. Please arrive at least 30 minutes prior to show time to help facilitate a timely show start. \n\n\n\n	\n\n	\n		\n	\n\n\nGet your tickets now! [Click Here]
URL:https://winterhavenlol.com/event/open-mic-night-2/
LOCATION:Laugh Out Lounge\, 19 3rd Street NW\, Winter Haven\, FL\, 33881\, United States
CATEGORIES:Stand Up Comedian
ATTACH;FMTTYPE=image/jpeg:https://winterhavenlol.com/wp-content/uploads/2023/01/Open-Mic-new-jpg.webp
ORGANIZER;CN="Laugh Out Lounge":MAILTO:maccentralllc@gmail.com
END:VEVENT
BEGIN:VEVENT
DTSTART;TZID=America/New_York:20230621T200000
DTEND;TZID=America/New_York:20230621T220000
DTSTAMP:20260423T025243
CREATED:20230620T125253Z
LAST-MODIFIED:20230620T125912Z
UID:2959-1687377600-1687384800@winterhavenlol.com
SUMMARY:Open Mic Night!
DESCRIPTION:Get Tickets Here!\n\n\n\nKevin FarleyAs seen on:    Black Sheep and Waterboy (with his brother Chris) \n\n\n\nClick to Learn More: \n\nKevin Farley has been bringing his signature brand of upbeat entertainment to fans around the world for over three decades. Kevin got his start studying at the famous Second City in Chicago. Soon after he starred in films such as Black Sheep (with his brother Chris) and The Waterboy (with Adam Sandler)\, and leading roles in An American Carol and White Knight. He has made guest appearances on Curb Your Enthusiasm\, Rules of Engagement\, Just Shoot Me and Comedy Central's Drunk History to name a few. Kevin has hosted many live shows and events and has been featured Nationally on The Today Show\, The View\, Extra\, Good Morning America and radio shows from coast to coast. Event Details: Date: Friday and Saturday February 23rd & 24th Showtime: 8pm Doors Open: 7pm Tickets: General Admission: $25 in advance ($35 at the door) Restrictions: All sales are final. No refunds. Must be 21+ to enter. Seating and Promo Codes: We offer choose your own seats through Eventbrite. If you do not choose your own seats\, the best available seats will be chosen for you. Be sure to enter any promo codes BEFORE selecting your seats. All walk ups the night of the show are first come\, first served. Two item minimum per person. Alcohol\, chips\, soda\, candy and merchandise count toward minimum. Bottled water does not count towards minimum. An additional charge of $10 will be applied to your tab for each person who does not meet the two item requirement. Must present confirmation email or QR code the night of the show for admission. Please arrive at least 30 minutes prior to show time to help facilitate a timely show start. \n\n\n\n	\n\n	\n		\n	\n\n\nGet your tickets now! [Click Here]
URL:https://winterhavenlol.com/event/open-mic-night-2/
LOCATION:Laugh Out Lounge\, 19 3rd Street NW\, Winter Haven\, FL\, 33881\, United States
CATEGORIES:Stand Up Comedian
ATTACH;FMTTYPE=image/jpeg:https://winterhavenlol.com/wp-content/uploads/2023/01/Open-Mic-new-jpg.webp
ORGANIZER;CN="Laugh Out Lounge":MAILTO:maccentralllc@gmail.com
END:VEVENT
BEGIN:VEVENT
DTSTART;TZID=America/New_York:20230621T200000
DTEND;TZID=America/New_York:20230621T220000
DTSTAMP:20260423T025243
CREATED:20230620T125253Z
LAST-MODIFIED:20230620T125912Z
UID:2959-1687377600-1687384800@winterhavenlol.com
SUMMARY:Open Mic Night!
DESCRIPTION:Get Tickets Here!\n\n\n\nKevin FarleyAs seen on:    Black Sheep and Waterboy (with his brother Chris) \n\n\n\nClick to Learn More: \n\nKevin Farley has been bringing his signature brand of upbeat entertainment to fans around the world for over three decades. Kevin got his start studying at the famous Second City in Chicago. Soon after he starred in films such as Black Sheep (with his brother Chris) and The Waterboy (with Adam Sandler)\, and leading roles in An American Carol and White Knight. He has made guest appearances on Curb Your Enthusiasm\, Rules of Engagement\, Just Shoot Me and Comedy Central's Drunk History to name a few. Kevin has hosted many live shows and events and has been featured Nationally on The Today Show\, The View\, Extra\, Good Morning America and radio shows from coast to coast. Event Details: Date: Friday and Saturday February 23rd & 24th Showtime: 8pm Doors Open: 7pm Tickets: General Admission: $25 in advance ($35 at the door) Restrictions: All sales are final. No refunds. Must be 21+ to enter. Seating and Promo Codes: We offer choose your own seats through Eventbrite. If you do not choose your own seats\, the best available seats will be chosen for you. Be sure to enter any promo codes BEFORE selecting your seats. All walk ups the night of the show are first come\, first served. Two item minimum per person. Alcohol\, chips\, soda\, candy and merchandise count toward minimum. Bottled water does not count towards minimum. An additional charge of $10 will be applied to your tab for each person who does not meet the two item requirement. Must present confirmation email or QR code the night of the show for admission. Please arrive at least 30 minutes prior to show time to help facilitate a timely show start. \n\n\n\n	\n\n	\n		\n	\n\n\nGet your tickets now! [Click Here]
URL:https://winterhavenlol.com/event/open-mic-night-2/
LOCATION:Laugh Out Lounge\, 19 3rd Street NW\, Winter Haven\, FL\, 33881\, United States
CATEGORIES:Stand Up Comedian
ATTACH;FMTTYPE=image/jpeg:https://winterhavenlol.com/wp-content/uploads/2023/01/Open-Mic-new-jpg.webp
ORGANIZER;CN="Laugh Out Lounge":MAILTO:maccentralllc@gmail.com
END:VEVENT
BEGIN:VEVENT
DTSTART;TZID=America/New_York:20230621T200000
DTEND;TZID=America/New_York:20230621T220000
DTSTAMP:20260423T025243
CREATED:20230620T125253Z
LAST-MODIFIED:20230620T125912Z
UID:2959-1687377600-1687384800@winterhavenlol.com
SUMMARY:Open Mic Night!
DESCRIPTION:Get Tickets Here!\n\n\n\nKevin FarleyAs seen on:    Black Sheep and Waterboy (with his brother Chris) \n\n\n\nClick to Learn More: \n\nKevin Farley has been bringing his signature brand of upbeat entertainment to fans around the world for over three decades. Kevin got his start studying at the famous Second City in Chicago. Soon after he starred in films such as Black Sheep (with his brother Chris) and The Waterboy (with Adam Sandler)\, and leading roles in An American Carol and White Knight. He has made guest appearances on Curb Your Enthusiasm\, Rules of Engagement\, Just Shoot Me and Comedy Central's Drunk History to name a few. Kevin has hosted many live shows and events and has been featured Nationally on The Today Show\, The View\, Extra\, Good Morning America and radio shows from coast to coast. Event Details: Date: Friday and Saturday February 23rd & 24th Showtime: 8pm Doors Open: 7pm Tickets: General Admission: $25 in advance ($35 at the door) Restrictions: All sales are final. No refunds. Must be 21+ to enter. Seating and Promo Codes: We offer choose your own seats through Eventbrite. If you do not choose your own seats\, the best available seats will be chosen for you. Be sure to enter any promo codes BEFORE selecting your seats. All walk ups the night of the show are first come\, first served. Two item minimum per person. Alcohol\, chips\, soda\, candy and merchandise count toward minimum. Bottled water does not count towards minimum. An additional charge of $10 will be applied to your tab for each person who does not meet the two item requirement. Must present confirmation email or QR code the night of the show for admission. Please arrive at least 30 minutes prior to show time to help facilitate a timely show start. \n\n\n\n	\n\n	\n		\n	\n\n\nGet your tickets now! [Click Here]
URL:https://winterhavenlol.com/event/open-mic-night-2/
LOCATION:Laugh Out Lounge\, 19 3rd Street NW\, Winter Haven\, FL\, 33881\, United States
CATEGORIES:Stand Up Comedian
ATTACH;FMTTYPE=image/jpeg:https://winterhavenlol.com/wp-content/uploads/2023/01/Open-Mic-new-jpg.webp
ORGANIZER;CN="Laugh Out Lounge":MAILTO:maccentralllc@gmail.com
END:VEVENT
END:VCALENDAR