BEGIN:VCALENDAR
VERSION:2.0
PRODID:-//Laugh Out Lounge - ECPv6.15.20//NONSGML v1.0//EN
CALSCALE:GREGORIAN
METHOD:PUBLISH
X-ORIGINAL-URL:https://winterhavenlol.com
X-WR-CALDESC:Events for Laugh Out Lounge
REFRESH-INTERVAL;VALUE=DURATION:PT1H
X-Robots-Tag:noindex
X-PUBLISHED-TTL:PT1H
BEGIN:VTIMEZONE
TZID:UTC
BEGIN:STANDARD
TZOFFSETFROM:+0000
TZOFFSETTO:+0000
TZNAME:UTC
DTSTART:20220101T000000
END:STANDARD
END:VTIMEZONE
BEGIN:VEVENT
DTSTART;TZID=UTC:20230201T200000
DTEND;TZID=UTC:20230201T220000
DTSTAMP:20260423T201414
CREATED:20230130T221234Z
LAST-MODIFIED:20230620T121916Z
UID:2441-1675281600-1675288800@winterhavenlol.com
SUMMARY:Open Mic Night!
DESCRIPTION:FREE SHOW!*\n\n\n\nLOL Comedy Showcase!As seen on:   Comedy Strip Live NYC\n\n\n\nClick to Learn More: \n\nLaugh Out Lounge presents the LOL Comedy Showcase! Come see some of the funniest up and coming comedians perform extended sets on the LOL stage! This is a FREE SHOW\, but the two item is required. Plus\, you can purchase a $25 Sink or Swim ticket and enjoy AYCD Beer or Wine! Reserved your seat now!  Featured Comedians:  Forrest Beers • Davis Sutton • Kandyce August • Alex Boyce • LJ Brock • Devin Pappayiannis Hosted by Michael Jochims Event Details:  Date: Thursday February 16th Showtime: 8pm  Doors Open: 7pm  Tickets:  General Admission: FREE Sink of Swim (Beer/wine): $25 in advance\, $35 at the door \n\n\n\n\n*Two Item Minimum Required
URL:https://winterhavenlol.com/event/open-mic-night/
LOCATION:Laugh Out Lounge\, 19 3rd Street NW\, Winter Haven\, FL\, 33881\, United States
CATEGORIES:Stand Up Comedian
ATTACH;FMTTYPE=image/jpeg:https://winterhavenlol.com/wp-content/uploads/2023/01/Open-Mic-new-jpg.webp
ORGANIZER;CN="Laugh Out Lounge":MAILTO:maccentralllc@gmail.com
END:VEVENT
END:VCALENDAR