BEGIN:VCALENDAR
VERSION:2.0
PRODID:-//Laugh Out Lounge - ECPv6.15.20//NONSGML v1.0//EN
CALSCALE:GREGORIAN
METHOD:PUBLISH
X-WR-CALNAME:Laugh Out Lounge
X-ORIGINAL-URL:https://winterhavenlol.com
X-WR-CALDESC:Events for Laugh Out Lounge
REFRESH-INTERVAL;VALUE=DURATION:PT1H
X-Robots-Tag:noindex
X-PUBLISHED-TTL:PT1H
BEGIN:VTIMEZONE
TZID:UTC
BEGIN:STANDARD
TZOFFSETFROM:+0000
TZOFFSETTO:+0000
TZNAME:UTC
DTSTART:20220101T000000
END:STANDARD
END:VTIMEZONE
BEGIN:VEVENT
DTSTART;TZID=UTC:20230316T200000
DTEND;TZID=UTC:20230316T220000
DTSTAMP:20260423T195410
CREATED:20230208T131714Z
LAST-MODIFIED:20230307T001706Z
UID:2518-1678996800-1679004000@winterhavenlol.com
SUMMARY:Stephen Henry and Friends!
DESCRIPTION:Get Tickets Here!\n\n\n\nSpunky Sundays!As seen on:    Shaq Network\n\n\n\nClick to Learn More: \n\n"Spunky Sundays!" happens monthly at Laugh Out Lounge! Come enjoy a hilarious night of laughter as Spunky and his friends present an outrageous night of music and comedy all rolled into one! This is the best Urban Comedy Show in Central Florida! Get your tickets now! Presented by Punchline Kang Productions!  More about Spunky:  The Miami\, Florida native exploded onto the comedy scene in full force making his comedic debut at the Miami Improv over 9 years ago. Using his real life experiences and hot topics of the day\, Spunky keeps the crowds laughing as a proven stand-up artist.  Known for his fast paced comedic style\, the self-proclaimed “Punchlinekang” has an energetic presence and ability to quickly connect with any crowd. Armed with his hilarious comedic musical parodies\, there is no limit to his talent which makes him a force to be reckoned with. \n\n\n\n\nGet your tickets now! [Click Here]
URL:https://winterhavenlol.com/event/stephen-henry/
LOCATION:Laugh Out Lounge\, 19 3rd Street NW\, Winter Haven\, FL\, 33881\, United States
CATEGORIES:Stand Up Comedian
ATTACH;FMTTYPE=image/jpeg:https://winterhavenlol.com/wp-content/uploads/2023/02/STEPHEN-HENRY-WEBSITE-3369-×-4033px-scaled.webp
ORGANIZER;CN="Laugh Out Lounge":MAILTO:maccentralllc@gmail.com
END:VEVENT
END:VCALENDAR