BEGIN:VCALENDAR
VERSION:2.0
PRODID:-//Laugh Out Lounge - ECPv6.15.20//NONSGML v1.0//EN
CALSCALE:GREGORIAN
METHOD:PUBLISH
X-WR-CALNAME:Laugh Out Lounge
X-ORIGINAL-URL:https://winterhavenlol.com
X-WR-CALDESC:Events for Laugh Out Lounge
REFRESH-INTERVAL;VALUE=DURATION:PT1H
X-Robots-Tag:noindex
X-PUBLISHED-TTL:PT1H
BEGIN:VTIMEZONE
TZID:UTC
BEGIN:STANDARD
TZOFFSETFROM:+0000
TZOFFSETTO:+0000
TZNAME:UTC
DTSTART:20210101T000000
END:STANDARD
END:VTIMEZONE
BEGIN:VEVENT
DTSTART;TZID=UTC:20220603T200000
DTEND;TZID=UTC:20220604T200000
DTSTAMP:20260424T101033
CREATED:20220502T210106Z
LAST-MODIFIED:20220502T210106Z
UID:1691-1654286400-1654372800@winterhavenlol.com
SUMMARY:Casey Peruski | June 3-4
DESCRIPTION:Get Tickets Here!\n\n\n\nThe Hot Mess Show! Hosted by:  Kyle Ruse and Jander Gray\n\n\n\nMore about The Hot Mess Show:  \n\nLaugh Out Lounge presents The Hot Mess Show* with Kyle Ruse and Jander Gray! This is not a show for those with a "mild" tempermant! Come see five comedians as they are put to the ultimate culinary test and try to perform while eating the spiciest chicken wings on the planet! Tickets are just $15 in advance ($20 at the door) and are on sale now! Don't miss it!  This show is not your normal comedy show. It's comedian versus the hottest wing sauces in the world! Your hosts Kyle Ruse (Funny or Die) and Jander Gray (Comedy Central) will be showcasing 5 comedians performing 10 minutes each. The first 5 minutes will be their own prepared material\, but then things get HOT! Before performing their next set\, they will each eat chicken wings covered in the some of the hottest sauces on the planet. Sauces such as "Ass Reaper"\, "The Colonic Cannon" and "Rectum? Damn Near Killed Him".  These are the kind of sauces that make you s**t lava! People may puke\, someone might die!!!! Rest assured this will be the most brutal night of stand up and culinary arts you have ever seen!!! This is a wing night from hell! Come see the craziest night of stand up in Winter Haven! Use Promo Code "FIREHOLE" to receive 20% off your purchase!  \n\n\n\n\n\n\n\n\nGet your tickets now! [Click Here]
URL:https://winterhavenlol.com/event/casey-peruski/
LOCATION:Laugh Out Lounge\, 19 3rd Street NW\, Winter Haven\, FL\, 33881\, United States
CATEGORIES:Stand Up Comedian
ATTACH;FMTTYPE=image/png:https://winterhavenlol.com/wp-content/uploads/2022/05/Casey-Peruski.png
ORGANIZER;CN="Laugh Out Lounge":MAILTO:maccentralllc@gmail.com
END:VEVENT
BEGIN:VEVENT
DTSTART;TZID=UTC:20220610T200000
DTEND;TZID=UTC:20220611T200000
DTSTAMP:20260424T101033
CREATED:20220502T210734Z
LAST-MODIFIED:20220502T210734Z
UID:1697-1654891200-1654977600@winterhavenlol.com
SUMMARY:Tim the Dairy Farmer | June 10-11
DESCRIPTION:Get Tickets Here!\n\n\n\nThe Hot Mess Show! Hosted by:  Kyle Ruse and Jander Gray\n\n\n\nMore about The Hot Mess Show:  \n\nLaugh Out Lounge presents The Hot Mess Show* with Kyle Ruse and Jander Gray! This is not a show for those with a "mild" tempermant! Come see five comedians as they are put to the ultimate culinary test and try to perform while eating the spiciest chicken wings on the planet! Tickets are just $15 in advance ($20 at the door) and are on sale now! Don't miss it!  This show is not your normal comedy show. It's comedian versus the hottest wing sauces in the world! Your hosts Kyle Ruse (Funny or Die) and Jander Gray (Comedy Central) will be showcasing 5 comedians performing 10 minutes each. The first 5 minutes will be their own prepared material\, but then things get HOT! Before performing their next set\, they will each eat chicken wings covered in the some of the hottest sauces on the planet. Sauces such as "Ass Reaper"\, "The Colonic Cannon" and "Rectum? Damn Near Killed Him".  These are the kind of sauces that make you s**t lava! People may puke\, someone might die!!!! Rest assured this will be the most brutal night of stand up and culinary arts you have ever seen!!! This is a wing night from hell! Come see the craziest night of stand up in Winter Haven! Use Promo Code "FIREHOLE" to receive 20% off your purchase!  \n\n\n\n\n\n\n\n\nGet your tickets now! [Click Here]
URL:https://winterhavenlol.com/event/tim-the-dairy-farmer/
LOCATION:Laugh Out Lounge\, 19 3rd Street NW\, Winter Haven\, FL\, 33881\, United States
CATEGORIES:Stand Up Comedian
ATTACH;FMTTYPE=image/png:https://winterhavenlol.com/wp-content/uploads/2022/05/Tim-the-Dairy-Farmer.png
ORGANIZER;CN="Laugh Out Lounge":MAILTO:maccentralllc@gmail.com
END:VEVENT
END:VCALENDAR