BEGIN:VCALENDAR
VERSION:2.0
PRODID:-//Laugh Out Lounge - ECPv6.15.20//NONSGML v1.0//EN
CALSCALE:GREGORIAN
METHOD:PUBLISH
X-ORIGINAL-URL:https://winterhavenlol.com
X-WR-CALDESC:Events for Laugh Out Lounge
REFRESH-INTERVAL;VALUE=DURATION:PT1H
X-Robots-Tag:noindex
X-PUBLISHED-TTL:PT1H
BEGIN:VTIMEZONE
TZID:UTC
BEGIN:STANDARD
TZOFFSETFROM:+0000
TZOFFSETTO:+0000
TZNAME:UTC
DTSTART:20210101T000000
END:STANDARD
END:VTIMEZONE
BEGIN:VEVENT
DTSTART;TZID=UTC:20220701T200000
DTEND;TZID=UTC:20220702T200000
DTSTAMP:20260424T083822
CREATED:20220523T200930Z
LAST-MODIFIED:20220523T201014Z
UID:1741-1656705600-1656792000@winterhavenlol.com
SUMMARY:Gid Pool | July 1-2
DESCRIPTION:Get Tickets Here!\n\n\n\nGid Pool As seen on: The Today Show\, Carnival and Celebrity Cruises\n\n\n\nClick to Learn More: \n\nLaugh Out Lounge\, Winter Haven's Premiere Comedy Club\, proudly presents comedian Gid Pool as seen on the Today Show\, Carnival\, and Celebrity Cruises! Gid is a crowd pleaser with hilarious stories from his life that any audience can relate to! Tickets are just $15 in advance ($20 at the door)\, and are available now! Get yours before they're gone!  More about Gid Pool:  When Jane Pauley interviewed Gid for a segment on the Today Show she said of him\, 'He could be the Pied Piper of the Baby Boomer generation."  She also wrote about him in her book\, "Life Reimagined\," as have two other authors. She then invited him to appear at the AARP National Convention in New Orleans. When he is not appearing in a comedy club or speaking at a private event\, you can usually find Gid on a cruise ship\, educating and motivating people. Each year he spends from 45 to 60 days on the high seas. In the past two years he has crossed the Atlantic four times. He's cruised from Valparaiso\, Chile to St. Petersburg\, Russia and been through the Panama Canal three times. His 50 plus cruises have given him a wealth of knowledge that he is now sharing with the world. \n\n\n\n\n\n\n\n\nGet your tickets now! [Click Here]
URL:https://winterhavenlol.com/event/gid-pool/
LOCATION:Laugh Out Lounge\, 19 3rd Street NW\, Winter Haven\, FL\, 33881\, United States
CATEGORIES:Stand Up Comedian
ATTACH;FMTTYPE=image/jpeg:https://winterhavenlol.com/wp-content/uploads/2022/05/Gid-Pool-scaled.jpg
ORGANIZER;CN="Laugh Out Lounge":MAILTO:maccentralllc@gmail.com
END:VEVENT
END:VCALENDAR