BEGIN:VCALENDAR
VERSION:2.0
PRODID:-//Laugh Out Lounge - ECPv6.15.20//NONSGML v1.0//EN
CALSCALE:GREGORIAN
METHOD:PUBLISH
X-WR-CALNAME:Laugh Out Lounge
X-ORIGINAL-URL:https://winterhavenlol.com
X-WR-CALDESC:Events for Laugh Out Lounge
REFRESH-INTERVAL;VALUE=DURATION:PT1H
X-Robots-Tag:noindex
X-PUBLISHED-TTL:PT1H
BEGIN:VTIMEZONE
TZID:UTC
BEGIN:STANDARD
TZOFFSETFROM:+0000
TZOFFSETTO:+0000
TZNAME:UTC
DTSTART:20210101T000000
END:STANDARD
END:VTIMEZONE
BEGIN:VEVENT
DTSTART;TZID=UTC:20221103T190000
DTEND;TZID=UTC:20221103T200000
DTSTAMP:20260423T225730
CREATED:20221003T225303Z
LAST-MODIFIED:20221004T232348Z
UID:2081-1667502000-1667505600@winterhavenlol.com
SUMMARY:Dan Sperry: The Anti-Conjuror | Nov 3rd
DESCRIPTION:Get Tickets Here!\n\n\n\nJander Gray and Friends! As seen on: All Over Tampa Bay Comedy! \n\n\n\nClick to learn more: \n\nLaugh Out Lounge Jander Gray and Friends! This promises to be one of the funniest comedy showcases you'll see featuring some of the best up-and-coming comedians out of Tampa! Tickets are just $10 in advance ($15 at the door) and are on sale now! Don't miss out!  More about Jander:  Jander Gray is a Comedian from Tampa\, Florida. When Jander isn't performing he is a stay at home dad to two children. He's the kind of guy you'd share beers with at a BBQ and listen to his stories. He's shared the stage with Chad Daniels\, Nate Bargatze & Dom Irrera. Janders style of comedy has been described as intelligent & insane\, but mostly funny! He brings along with him six HILARIOUS comedians from the Bay Area:  Lauren Gray (yes\, his wife)\, Jerod Walker\, J.J. Curry\, Hugh Carey\, Jon Turkel\, and Shellie Bejar \n\n\n\n	\n\n	\n		\n	\n\n\nGet your tickets now! [Click Here]
URL:https://winterhavenlol.com/event/dan-sperry-anti-conjuror/
LOCATION:Laugh Out Lounge\, 19 3rd Street NW\, Winter Haven\, FL\, 33881\, United States
CATEGORIES:Stand Up Comedian
ATTACH;FMTTYPE=image/jpeg:https://winterhavenlol.com/wp-content/uploads/2022/10/Dan-Sperry-2.jpg
ORGANIZER;CN="Laugh Out Lounge":MAILTO:maccentralllc@gmail.com
END:VEVENT
END:VCALENDAR