BEGIN:VCALENDAR
VERSION:2.0
PRODID:-//Laugh Out Lounge - ECPv6.15.20//NONSGML v1.0//EN
CALSCALE:GREGORIAN
METHOD:PUBLISH
X-ORIGINAL-URL:https://winterhavenlol.com
X-WR-CALDESC:Events for Laugh Out Lounge
REFRESH-INTERVAL;VALUE=DURATION:PT1H
X-Robots-Tag:noindex
X-PUBLISHED-TTL:PT1H
BEGIN:VTIMEZONE
TZID:UTC
BEGIN:STANDARD
TZOFFSETFROM:+0000
TZOFFSETTO:+0000
TZNAME:UTC
DTSTART:20210101T000000
END:STANDARD
END:VTIMEZONE
BEGIN:VEVENT
DTSTART;TZID=UTC:20220528T200000
DTEND;TZID=UTC:20220529T200000
DTSTAMP:20260425T065716
CREATED:20220510T194528Z
LAST-MODIFIED:20220510T194951Z
UID:1715-1653768000-1653854400@winterhavenlol.com
SUMMARY:The Hot Mess Show! | May 28th
DESCRIPTION:Get Tickets Here!\n\n\n\nSpunky Thursdays!As seen on:   BET\, Shaq Comedy Network\n\n\n\nClick to Learn More: \n\nThe Miami\, Florida native exploded onto the comedy scene in full force making his comedic debut at the Miami Improv over 9 years ago. Using his real life experiences and hot topics of the day\, Spunky keeps the crowds laughing as a proven stand-up artist.   Known for his fast paced comedic style\, the self-proclaimed “Punchlinekang” has an energetic presence and ability to quickly connect with any crowd.  Armed with his hilarious comedic musical parodies\, there is no limit to his talent which makes him a force to be reckoned with.  Read more at www.spunkyrobinson.com \n\n\n\n\n\n\n\n\nGet your tickets now! [Click Here]
URL:https://winterhavenlol.com/event/hot-mess/
LOCATION:Laugh Out Lounge\, 19 3rd Street NW\, Winter Haven\, FL\, 33881\, United States
CATEGORIES:Stand Up Comedian
ATTACH;FMTTYPE=image/png:https://winterhavenlol.com/wp-content/uploads/2022/05/Hot-Mess-1.png
ORGANIZER;CN="Laugh Out Lounge":MAILTO:maccentralllc@gmail.com
END:VEVENT
END:VCALENDAR