BEGIN:VCALENDAR
VERSION:2.0
PRODID:-//Laugh Out Lounge - ECPv6.15.20//NONSGML v1.0//EN
CALSCALE:GREGORIAN
METHOD:PUBLISH
X-ORIGINAL-URL:https://winterhavenlol.com
X-WR-CALDESC:Events for Laugh Out Lounge
REFRESH-INTERVAL;VALUE=DURATION:PT1H
X-Robots-Tag:noindex
X-PUBLISHED-TTL:PT1H
BEGIN:VTIMEZONE
TZID:America/New_York
BEGIN:DAYLIGHT
TZOFFSETFROM:-0500
TZOFFSETTO:-0400
TZNAME:EDT
DTSTART:20220313T070000
END:DAYLIGHT
BEGIN:STANDARD
TZOFFSETFROM:-0400
TZOFFSETTO:-0500
TZNAME:EST
DTSTART:20221106T060000
END:STANDARD
BEGIN:DAYLIGHT
TZOFFSETFROM:-0500
TZOFFSETTO:-0400
TZNAME:EDT
DTSTART:20230312T070000
END:DAYLIGHT
BEGIN:STANDARD
TZOFFSETFROM:-0400
TZOFFSETTO:-0500
TZNAME:EST
DTSTART:20231105T060000
END:STANDARD
BEGIN:DAYLIGHT
TZOFFSETFROM:-0500
TZOFFSETTO:-0400
TZNAME:EDT
DTSTART:20240310T070000
END:DAYLIGHT
BEGIN:STANDARD
TZOFFSETFROM:-0400
TZOFFSETTO:-0500
TZNAME:EST
DTSTART:20241103T060000
END:STANDARD
END:VTIMEZONE
BEGIN:VEVENT
DTSTART;TZID=America/New_York:20230407T200000
DTEND;TZID=America/New_York:20230407T220000
DTSTAMP:20260423T165133
CREATED:20230307T000912Z
LAST-MODIFIED:20230307T001301Z
UID:2590-1680897600-1680904800@winterhavenlol.com
SUMMARY:Dougie Almeida
DESCRIPTION:Get Tickets Here!\n\n\n\nDougie AlmeidaAs seen on:   Jimmy Kimmel Live\, FOX Sports\n\n\n\nClick to Learn More: \n\nDon't miss Dougie Almeida as seen on Jimmy Kimmel Live April 7th and 8th! Dougie is a comedy pro\, and is guaranteed to have you laughing from beginning to end! Tickets are just $15 in advance ($20 at the door) and are on sale now! Get yours while they last!  More about Dougie:  Hailing from Queens\, New York\, Dougie Almeida spent most of his adult life as a corporate presenter for one of the largest financial planning firms in the country. His specialty was taking lifeless insurance presentations and transforming them into works of comic art. In his spare time\, he fought as an ISKA Heavyweight Muay Thai Kick boxer\, retiring at 10-0 and earning the title “Always Dangerous”. So\, what do you get when you cross an inventive corporate executive with a retired kick boxer? A stand-up comedian\, of course! Winner of Improv’s New Faces of Comedy & participant in various comedy festivals\, like; Laughing Skull Comedy Festival\, Gilda’s Laugh Fest\, SLO Comedy Festival\, Laugh Your Asheville Comedy Fest. NOHO Comedy Fest. & Boston Comedy Festival.Semi Finalist in Cleveland Comedy Festival 2013\, Laughlin Laughfest 2014 & Finalist in World Series of Comedy Main Event 2015. Recently\, Dougie appeared on “Jimmy Kimmel Live” on the segment\, “Wall of America”. Prior to taking the stage\, Dougie gauges his audience\, reaches into his vault and prepares his onslaught of humor. Once on stage\, he delivers blow after blow of hilarity\, hitting the audience with punch line after punch line. His wit and stage presence is second to none. One thing is always certain – Dougie Almeida will KNOCK YOU OUT! \n\n\n\n\n\n\n\n\nGet your tickets now! [Click Here]
URL:https://winterhavenlol.com/event/dougie-almeida/
LOCATION:Laugh Out Lounge\, 19 3rd Street NW\, Winter Haven\, FL\, 33881\, United States
CATEGORIES:Stand Up Comedian
ATTACH;FMTTYPE=image/jpeg:https://winterhavenlol.com/wp-content/uploads/2023/03/DOUGIE-ALMEIDA-WEBSITE-3369-×-4033px-scaled.webp
ORGANIZER;CN="Laugh Out Lounge":MAILTO:maccentralllc@gmail.com
END:VEVENT
END:VCALENDAR