BEGIN:VCALENDAR
VERSION:2.0
PRODID:-//Laugh Out Lounge - ECPv6.15.20//NONSGML v1.0//EN
CALSCALE:GREGORIAN
METHOD:PUBLISH
X-ORIGINAL-URL:https://winterhavenlol.com
X-WR-CALDESC:Events for Laugh Out Lounge
REFRESH-INTERVAL;VALUE=DURATION:PT1H
X-Robots-Tag:noindex
X-PUBLISHED-TTL:PT1H
BEGIN:VTIMEZONE
TZID:UTC
BEGIN:STANDARD
TZOFFSETFROM:+0000
TZOFFSETTO:+0000
TZNAME:UTC
DTSTART:20210101T000000
END:STANDARD
END:VTIMEZONE
BEGIN:VEVENT
DTSTART;TZID=UTC:20221027T190000
DTEND;TZID=UTC:20221027T200000
DTSTAMP:20260424T004247
CREATED:20220922T165641Z
LAST-MODIFIED:20220922T165641Z
UID:2073-1666897200-1666900800@winterhavenlol.com
SUMMARY:Bill Abbott's Comedy Magic | Oct 27th
DESCRIPTION:Get Tickets Here!\n\n\n\nBill Abbott As seen on: America's Got Talent\n\n\n\nClick to learn more: \n\nGet ready for a magical night of laughter with comedian and magician Bill Abbott! Bill has been performing comedy magic for years\, and now he brings his talents to Laugh Out Lounge for one night only: October 27th at 7pm! Tickets are just $15 in advance ($20 at the door) and are on sale now! Get yours before they "disappear"!  More about Bill:  A show filled with laughter\, surprise\, charm and wonder! Experience the incredible and hilarious magic show that has entertained and amazed audiences around the world!  Bill Abbott features mind blowing sleight of hand\, jaw dropping illusion and laugh out loud comedy that will leave you thoroughly entertained. \n\n\n\n\n\n\n\n\nGet your tickets now! [Click Here]
URL:https://winterhavenlol.com/event/bill-abbott-comedy-magic/
LOCATION:Laugh Out Lounge\, 19 3rd Street NW\, Winter Haven\, FL\, 33881\, United States
CATEGORIES:Stand Up Comedian
ATTACH;FMTTYPE=image/jpeg:https://winterhavenlol.com/wp-content/uploads/2022/09/Bill-Abbott.jpg
ORGANIZER;CN="Laugh Out Lounge":MAILTO:maccentralllc@gmail.com
END:VEVENT
END:VCALENDAR