BEGIN:VCALENDAR
VERSION:2.0
PRODID:-//Laugh Out Lounge - ECPv6.15.20//NONSGML v1.0//EN
CALSCALE:GREGORIAN
METHOD:PUBLISH
X-WR-CALNAME:Laugh Out Lounge
X-ORIGINAL-URL:https://winterhavenlol.com
X-WR-CALDESC:Events for Laugh Out Lounge
REFRESH-INTERVAL;VALUE=DURATION:PT1H
X-Robots-Tag:noindex
X-PUBLISHED-TTL:PT1H
BEGIN:VTIMEZONE
TZID:UTC
BEGIN:STANDARD
TZOFFSETFROM:+0000
TZOFFSETTO:+0000
TZNAME:UTC
DTSTART:20210101T000000
END:STANDARD
END:VTIMEZONE
BEGIN:VEVENT
DTSTART;TZID=UTC:20220617T200000
DTEND;TZID=UTC:20220618T200000
DTSTAMP:20260424T195404
CREATED:20220516T220053Z
LAST-MODIFIED:20220516T220145Z
UID:1725-1655496000-1655582400@winterhavenlol.com
SUMMARY:Chris Gorges | June 17-18
DESCRIPTION:Get Tickets Here!\n\n\n\nChris Gorges As seen on: NBC's Daytime and Mongo Like Candy\n\n\n\nClick to Learn More: \n\nLaugh Out Lounge proudly presents comedian Chris Gorges from NBC Daytime! Chris is a fantastic\, high energy\, comedian who incorporates his training in Improv (Second City Chicago) to bring you a laugh out loud comedy experience! Tickets are just $15 in advance ($20 at the door) and are on sale now! Don't miss it!  More about Chris:  Some people like to read books. Chris Gorges likes to read crowds.  He has the ability to relate to his audience.  His interactive style gets the crowd going and with his wide range of material\, Chris never misses a beat. With a strong background in Improvisation\, his act can be anything! He’s all about getting some serious laughs and brings tons of experience to the stage from every part of his life. Veteran\, Father\, Gamer and Medical Professional...it's all in there. Chris is originally from Boston\, now lives in Florida and has been a staple on the comedy scene for over 25 years. His credits include Co-Hosting on NBC's Daytime\, directing the 2000 "Best of the Bay" Improv troupe "The Charming Hooligans" as well as an award winning Public Access show called "Mongo Like Candy".  He was also the host of the "The Double Special Show"\, Winner of the "2014 Best Comedy Podcast" Talkie Award and has opened for the likes of Dave Chapelle\, Pauly Shore and Bill Bellamy. Chris studied improvisation under Richard Schaal\, Co-Founder of the legendary Compass Theater Group and The Second City in Chicago. High energy\, honest and edgy comedy set the tone for a show that is never the same twice. Lots of interaction and improvisation make for a great comedy experience. \n\n\n\n\n\n\n\n\nGet your tickets now! [Click Here]
URL:https://winterhavenlol.com/event/chris-gorges/
LOCATION:Laugh Out Lounge\, 19 3rd Street NW\, Winter Haven\, FL\, 33881\, United States
CATEGORIES:Stand Up Comedian
ATTACH;FMTTYPE=image/png:https://winterhavenlol.com/wp-content/uploads/2022/05/Chris-Gorges.png
ORGANIZER;CN="Laugh Out Lounge":MAILTO:maccentralllc@gmail.com
END:VEVENT
END:VCALENDAR