BEGIN:VCALENDAR
VERSION:2.0
PRODID:-//Laugh Out Lounge - ECPv6.15.20//NONSGML v1.0//EN
CALSCALE:GREGORIAN
METHOD:PUBLISH
X-WR-CALNAME:Laugh Out Lounge
X-ORIGINAL-URL:https://winterhavenlol.com
X-WR-CALDESC:Events for Laugh Out Lounge
REFRESH-INTERVAL;VALUE=DURATION:PT1H
X-Robots-Tag:noindex
X-PUBLISHED-TTL:PT1H
BEGIN:VTIMEZONE
TZID:UTC
BEGIN:STANDARD
TZOFFSETFROM:+0000
TZOFFSETTO:+0000
TZNAME:UTC
DTSTART:20210101T000000
END:STANDARD
END:VTIMEZONE
BEGIN:VEVENT
DTSTART;TZID=UTC:20220805T200000
DTEND;TZID=UTC:20220806T200000
DTSTAMP:20260424T035108
CREATED:20220628T202523Z
LAST-MODIFIED:20220628T202523Z
UID:1815-1659729600-1659816000@winterhavenlol.com
SUMMARY:Hilliary Begley | Aug 5-6
DESCRIPTION:Get Tickets Here!\n\n\n\nAlex ElkinAs seen on:   Netflix\, MTV\, NBC and more!\n\n\n\nClick to Learn More: \n\nAlex Elkin brings his "Career's on Fire Tour" back to Laugh Out Lounge February 17th and 18th! Don't miss this fast paced\, hilarious comedian! Tickets are on sale now and are just $20 in advance ($25 at the door) More about Alex:  Portland comedian Alex Elkin started his stand up comedy career in 2016 after winning the prestigious 41st Annual International San Francisco Comedy Competition. In July 2018 he was honored in being chosen to go to Kuwait\, Baghdad\, Iraq and Syria to entertain the troops. Elkin was a finalist in the Hollywood Laugh Factory’s International Donald Trump Impersonator Contest and is 2018’s champion of the Hard Rock Casino’s Annual Comedy Cage Match. When he’s not home with his wife of 19 years and his three children\, you can find Alex Elkin headlining comedy clubs across the country and cruise ships all over the world. Alex has been seen on the Netflix series Trinkets\, Inside Edition\, CNN\, VUDU\, XBOX\, Amazon Prime\, E!’s The Simple Life Season 5\, TNT’s LEVERAGE\, NBC’s GRIMM as well as heard regularly on XM Sirius’ Raw Dog comedy channel. Alex Elkin comedy specials and albums are released through Uproar Records including his latest work Screaming at Shapes which debuted at #6 on iTunes and can be downloaded through any online music store. You can hear him as the voice of DEREK the RACCOON in the animated TV series The Tuttle Twins AVAILABLE FREE NOW through the VidAngel Studios app!  \n\n\n\n\n\n\n\n\nGet your tickets now! [Click Here]
URL:https://winterhavenlol.com/event/hilliary-begley/
LOCATION:Laugh Out Lounge\, 19 3rd Street NW\, Winter Haven\, FL\, 33881\, United States
CATEGORIES:Stand Up Comedian
ATTACH;FMTTYPE=image/jpeg:https://winterhavenlol.com/wp-content/uploads/2022/06/Hilliary-Begley.jpg
ORGANIZER;CN="Laugh Out Lounge":MAILTO:maccentralllc@gmail.com
END:VEVENT
BEGIN:VEVENT
DTSTART;TZID=UTC:20220812T200000
DTEND;TZID=UTC:20220813T200000
DTSTAMP:20260424T035108
CREATED:20220706T011507Z
LAST-MODIFIED:20220706T011507Z
UID:1823-1660334400-1660420800@winterhavenlol.com
SUMMARY:Paul Farahvar | August 12-13
DESCRIPTION:Get Tickets Here!\n\n\n\nAlex ElkinAs seen on:   Netflix\, MTV\, NBC and more!\n\n\n\nClick to Learn More: \n\nAlex Elkin brings his "Career's on Fire Tour" back to Laugh Out Lounge February 17th and 18th! Don't miss this fast paced\, hilarious comedian! Tickets are on sale now and are just $20 in advance ($25 at the door) More about Alex:  Portland comedian Alex Elkin started his stand up comedy career in 2016 after winning the prestigious 41st Annual International San Francisco Comedy Competition. In July 2018 he was honored in being chosen to go to Kuwait\, Baghdad\, Iraq and Syria to entertain the troops. Elkin was a finalist in the Hollywood Laugh Factory’s International Donald Trump Impersonator Contest and is 2018’s champion of the Hard Rock Casino’s Annual Comedy Cage Match. When he’s not home with his wife of 19 years and his three children\, you can find Alex Elkin headlining comedy clubs across the country and cruise ships all over the world. Alex has been seen on the Netflix series Trinkets\, Inside Edition\, CNN\, VUDU\, XBOX\, Amazon Prime\, E!’s The Simple Life Season 5\, TNT’s LEVERAGE\, NBC’s GRIMM as well as heard regularly on XM Sirius’ Raw Dog comedy channel. Alex Elkin comedy specials and albums are released through Uproar Records including his latest work Screaming at Shapes which debuted at #6 on iTunes and can be downloaded through any online music store. You can hear him as the voice of DEREK the RACCOON in the animated TV series The Tuttle Twins AVAILABLE FREE NOW through the VidAngel Studios app!  \n\n\n\n\n\n\n\n\nGet your tickets now! [Click Here]
URL:https://winterhavenlol.com/event/paul-farahvar/
LOCATION:Laugh Out Lounge\, 19 3rd Street NW\, Winter Haven\, FL\, 33881\, United States
CATEGORIES:Stand Up Comedian
ATTACH;FMTTYPE=image/jpeg:https://winterhavenlol.com/wp-content/uploads/2022/07/Paul-Farahvar.jpg
ORGANIZER;CN="Laugh Out Lounge":MAILTO:maccentralllc@gmail.com
END:VEVENT
END:VCALENDAR