BEGIN:VCALENDAR
VERSION:2.0
PRODID:-//Laugh Out Lounge - ECPv6.15.20//NONSGML v1.0//EN
CALSCALE:GREGORIAN
METHOD:PUBLISH
X-ORIGINAL-URL:https://winterhavenlol.com
X-WR-CALDESC:Events for Laugh Out Lounge
REFRESH-INTERVAL;VALUE=DURATION:PT1H
X-Robots-Tag:noindex
X-PUBLISHED-TTL:PT1H
BEGIN:VTIMEZONE
TZID:America/New_York
BEGIN:DAYLIGHT
TZOFFSETFROM:-0500
TZOFFSETTO:-0400
TZNAME:EDT
DTSTART:20230312T070000
END:DAYLIGHT
BEGIN:STANDARD
TZOFFSETFROM:-0400
TZOFFSETTO:-0500
TZNAME:EST
DTSTART:20231105T060000
END:STANDARD
BEGIN:DAYLIGHT
TZOFFSETFROM:-0500
TZOFFSETTO:-0400
TZNAME:EDT
DTSTART:20240310T070000
END:DAYLIGHT
BEGIN:STANDARD
TZOFFSETFROM:-0400
TZOFFSETTO:-0500
TZNAME:EST
DTSTART:20241103T060000
END:STANDARD
BEGIN:DAYLIGHT
TZOFFSETFROM:-0500
TZOFFSETTO:-0400
TZNAME:EDT
DTSTART:20250309T070000
END:DAYLIGHT
BEGIN:STANDARD
TZOFFSETFROM:-0400
TZOFFSETTO:-0500
TZNAME:EST
DTSTART:20251102T060000
END:STANDARD
END:VTIMEZONE
BEGIN:VEVENT
DTSTART;TZID=America/New_York:20240209T200000
DTEND;TZID=America/New_York:20240209T213000
DTSTAMP:20260423T231211
CREATED:20240102T230628Z
LAST-MODIFIED:20240102T230652Z
UID:3513-1707508800-1707514200@winterhavenlol.com
SUMMARY:Peter Antoniou
DESCRIPTION:Get Tickets Here!\n\n\n\nPeter AntoniouAs seen on:   America's Got Talent\n\n\n\nClick to Learn More: \n\nFrom London’s West End\, to being a semi-finalist on America’s Got Talent\, Peter Antoniou has been astounding audiences around the world with his uncanny abilities. His shows fuse stunning feats of mind-reading with storytelling\, razor sharp wit\, and improvisational comedy to create unique live entertainment experiences. Funny\, engaging\, and interactive\, Peter will leave you questioning just what is really possible. "You are a wizard!" - Simon Cowell "Should be placed on a pedestal above his competitors!" - Broadway Baby "It's unbelievable what you can do!" - Howie Mandell Event Details: Date: Friday and Saturday February 9th & 10th Showtime: 8pm Doors Open: 7pm Tickets: General Admission: $25 in advance ($35 at the door) Restrictions: All sales are final. No refunds. Must be 21+ to enter. Seating and Promo Codes: We offer choose your own seats through Eventbrite. If you do not choose your own seats\, the best available seats will be chosen for you. Be sure to enter any promo codes BEFORE selecting your seats. All walk ups the night of the show are first come\, first served. Two item minimum per person. Alcohol\, chips\, soda\, candy and merchandise count toward minimum. Bottled water does not count towards minimum. An additional charge of $10 will be applied to your tab for each person who does not meet the two item requirement. Must present confirmation email or QR code the night of the show for admission. Please arrive at least 30 minutes prior to show time to help facilitate a timely show start. \n\n\n\n\n\n\n\n\nGet your tickets now! [Click Here]
URL:https://winterhavenlol.com/event/peter-antoniou-2024/
LOCATION:Laugh Out Lounge\, 19 3rd Street NW\, Winter Haven\, FL\, 33881\, United States
CATEGORIES:Stand Up Comedian
ATTACH;FMTTYPE=image/jpeg:https://winterhavenlol.com/wp-content/uploads/2024/01/PETER-ANTONIOU-WEBSITE-scaled.webp
ORGANIZER;CN="Laugh Out Lounge":MAILTO:maccentralllc@gmail.com
END:VEVENT
BEGIN:VEVENT
DTSTART;TZID=America/New_York:20240209T200000
DTEND;TZID=America/New_York:20240209T213000
DTSTAMP:20260423T231211
CREATED:20240102T230628Z
LAST-MODIFIED:20240102T230652Z
UID:3513-1707508800-1707514200@winterhavenlol.com
SUMMARY:Peter Antoniou
DESCRIPTION:Get Tickets Here!\n\n\n\nPeter AntoniouAs seen on:   America's Got Talent\n\n\n\nClick to Learn More: \n\nFrom London’s West End\, to being a semi-finalist on America’s Got Talent\, Peter Antoniou has been astounding audiences around the world with his uncanny abilities. His shows fuse stunning feats of mind-reading with storytelling\, razor sharp wit\, and improvisational comedy to create unique live entertainment experiences. Funny\, engaging\, and interactive\, Peter will leave you questioning just what is really possible. "You are a wizard!" - Simon Cowell "Should be placed on a pedestal above his competitors!" - Broadway Baby "It's unbelievable what you can do!" - Howie Mandell Event Details: Date: Friday and Saturday February 9th & 10th Showtime: 8pm Doors Open: 7pm Tickets: General Admission: $25 in advance ($35 at the door) Restrictions: All sales are final. No refunds. Must be 21+ to enter. Seating and Promo Codes: We offer choose your own seats through Eventbrite. If you do not choose your own seats\, the best available seats will be chosen for you. Be sure to enter any promo codes BEFORE selecting your seats. All walk ups the night of the show are first come\, first served. Two item minimum per person. Alcohol\, chips\, soda\, candy and merchandise count toward minimum. Bottled water does not count towards minimum. An additional charge of $10 will be applied to your tab for each person who does not meet the two item requirement. Must present confirmation email or QR code the night of the show for admission. Please arrive at least 30 minutes prior to show time to help facilitate a timely show start. \n\n\n\n\n\n\n\n\nGet your tickets now! [Click Here]
URL:https://winterhavenlol.com/event/peter-antoniou-2024/
LOCATION:Laugh Out Lounge\, 19 3rd Street NW\, Winter Haven\, FL\, 33881\, United States
CATEGORIES:Stand Up Comedian
ATTACH;FMTTYPE=image/jpeg:https://winterhavenlol.com/wp-content/uploads/2024/01/PETER-ANTONIOU-WEBSITE-scaled.webp
ORGANIZER;CN="Laugh Out Lounge":MAILTO:maccentralllc@gmail.com
END:VEVENT
END:VCALENDAR