BEGIN:VCALENDAR
VERSION:2.0
PRODID:-//Laugh Out Lounge - ECPv6.15.20//NONSGML v1.0//EN
CALSCALE:GREGORIAN
METHOD:PUBLISH
X-WR-CALNAME:Laugh Out Lounge
X-ORIGINAL-URL:https://winterhavenlol.com
X-WR-CALDESC:Events for Laugh Out Lounge
REFRESH-INTERVAL;VALUE=DURATION:PT1H
X-Robots-Tag:noindex
X-PUBLISHED-TTL:PT1H
BEGIN:VTIMEZONE
TZID:UTC
BEGIN:STANDARD
TZOFFSETFROM:+0000
TZOFFSETTO:+0000
TZNAME:UTC
DTSTART:20210101T000000
END:STANDARD
END:VTIMEZONE
BEGIN:VEVENT
DTSTART;TZID=UTC:20221117T190000
DTEND;TZID=UTC:20221117T210000
DTSTAMP:20260423T233704
CREATED:20221025T225025Z
LAST-MODIFIED:20221025T225025Z
UID:2149-1668711600-1668718800@winterhavenlol.com
SUMMARY:Punchlines and Parodies! | Nov 17th
DESCRIPTION:Get Tickets Here!\n\n\n\nPunchlines and Parodies   A Night of Lyrical Laughs!\n\n\n\nClick to Learn More: \n\nLaugh Out Lounge presents Punchlines and Parodies! An all musical comedy event! Don't miss this night of Lyrical Laughter as these comedian/musicians perform their best comedic sonnets\, parodies\, and originals! Tickets are just $10 in advance ($15 at the door) and are going fast! Get yours before they're gone!  More about the show:  Punchlines and Parodies is an all musical comedian show that promises to not only bring the laughter\, but showcase the musical talent of some of the best comedians on the circuit. These are not weekend campfire guitarists! These are true musicians with a comedic talent! Enjoy a night of laughter and music in this one-night-only event!  Event Details:  Date: Thursday April 6th Showtime: 7:30pm Doors: 6:30pm Tickets:  General Admission: $10 in advance\, $15 at the door Restrictions:  Must be 21+ to enter.  Seating for this event is first come first served. Please arrive early to have your best choice of seats. Large groups arrive together to be sat together.   Two item minimum per person. Alcohol\, chips\, soda\, and merchandise count toward minimum. Bottled water does not count towards minimum. An additional charge of $6 will be applied to your tab for each person who does not meet the two item minimum. Must present confirmation email or QR code the night fo the show for admission. Please arrive at least 30 minutes prior to show time to help facilitate a timely show start. \n\n\n\n\n\n\n\n\nGet your tickets now! [Click Here]
URL:https://winterhavenlol.com/event/punchlines-and-parodies/
LOCATION:Laugh Out Lounge\, 19 3rd Street NW\, Winter Haven\, FL\, 33881\, United States
CATEGORIES:Stand Up Comedian
ATTACH;FMTTYPE=image/jpeg:https://winterhavenlol.com/wp-content/uploads/2022/10/Punchlines-and-Parodies.jpg
ORGANIZER;CN="Laugh Out Lounge":MAILTO:maccentralllc@gmail.com
END:VEVENT
END:VCALENDAR