BEGIN:VCALENDAR
VERSION:2.0
PRODID:-//Laugh Out Lounge - ECPv6.15.20//NONSGML v1.0//EN
CALSCALE:GREGORIAN
METHOD:PUBLISH
X-ORIGINAL-URL:https://winterhavenlol.com
X-WR-CALDESC:Events for Laugh Out Lounge
REFRESH-INTERVAL;VALUE=DURATION:PT1H
X-Robots-Tag:noindex
X-PUBLISHED-TTL:PT1H
BEGIN:VTIMEZONE
TZID:UTC
BEGIN:STANDARD
TZOFFSETFROM:+0000
TZOFFSETTO:+0000
TZNAME:UTC
DTSTART:20210101T000000
END:STANDARD
END:VTIMEZONE
BEGIN:VEVENT
DTSTART;TZID=UTC:20221007T200000
DTEND;TZID=UTC:20221008T200000
DTSTAMP:20260423T233703
CREATED:20220830T195807Z
LAST-MODIFIED:20220922T133039Z
UID:1983-1665172800-1665259200@winterhavenlol.com
SUMMARY:Rahn Hortman | Oct 7-8
DESCRIPTION:Get Tickets Here!\n\n\n\nShane HartlineAs seen on: Obi Wan Kenobi\, Station 19\, Rock of Ages\n\n\n\nClick to Learn More: \n\nLaugh Out Lounge is proud to welcome home comedian\, actor\, and writer Shane Hartline! Shane is a Winter Haven native who now calls Los Angeles home. He's a local favorite who made it big in LA and New York with several appearances in movies\, TV and national commercials! Come welcome him home on October 20th for a one-night-only special event! Tickets are just $15 in advance ($20 at the door) and are on sale now! Be there!  More about Shane:  Shane Hartline is a Winter Haven born actor\, writer and comedian. His acting credits include "Star Wars: Obi Wan Kenobi"\, "Rock of Ages\," "Station 19\," "the Disney Channel Series "Stuck in the Middle\," and more. A skilled sketch comedy actor\, Shane's online sketches and videos have gone viral\, nearly one million followers and 20+ million likes on "Tik Tok" and millions of views on Instagram. (They've also gotten the attention of A-list stars like Chris Pratt & The Rock). This will be Shane's first hometown show in over ten years. \n\n\n\n\n\n\n\n\nGet your tickets now! [Click Here]
URL:https://winterhavenlol.com/event/rahn-hortman/
LOCATION:Laugh Out Lounge\, 19 3rd Street NW\, Winter Haven\, FL\, 33881\, United States
CATEGORIES:Stand Up Comedian
ATTACH;FMTTYPE=image/jpeg:https://winterhavenlol.com/wp-content/uploads/2022/08/Rahn-Hortman.jpg
ORGANIZER;CN="Laugh Out Lounge":MAILTO:maccentralllc@gmail.com
END:VEVENT
END:VCALENDAR