BEGIN:VCALENDAR
VERSION:2.0
PRODID:-//Laugh Out Lounge - ECPv6.15.20//NONSGML v1.0//EN
CALSCALE:GREGORIAN
METHOD:PUBLISH
X-ORIGINAL-URL:https://winterhavenlol.com
X-WR-CALDESC:Events for Laugh Out Lounge
REFRESH-INTERVAL;VALUE=DURATION:PT1H
X-Robots-Tag:noindex
X-PUBLISHED-TTL:PT1H
BEGIN:VTIMEZONE
TZID:UTC
BEGIN:STANDARD
TZOFFSETFROM:+0000
TZOFFSETTO:+0000
TZNAME:UTC
DTSTART:20210101T000000
END:STANDARD
END:VTIMEZONE
BEGIN:VEVENT
DTSTART;TZID=UTC:20220901T200000
DTEND;TZID=UTC:20220901T210000
DTSTAMP:20260423T231201
CREATED:20220801T202655Z
LAST-MODIFIED:20220801T202710Z
UID:1888-1662062400-1662066000@winterhavenlol.com
SUMMARY:Spunky Thursdays! | Sept 1st
DESCRIPTION:Get Tickets Here!\n\n\n\nRecovering Hoe TourAs seen on: Dry Bar Comedy\, HBO\, SiriusXM\n\n\n\nClick to Learn More: \n\nLaugh Out Lounge proudly presents Spunky Robinson's "Recovering Hoe" Tour! Featuring Spunky Robinson\, Felicia\, Big e Johnson\, and your headliner\, Bennie Mac! Tickets for this special event are just $15 in advance ($20 at the door) and are on sale now! Get yours today!  More about Spunky:  The Miami\, Florida native exploded onto the comedy scene in full force making his comedic debut at the Miami Improv over 9 years ago. Using his real life experiences and hot topics of the day\, Spunky keeps the crowds laughing as a proven stand-up artist.  Known for his fast paced comedic style\, the self-proclaimed “Punchlinekang” has an energetic presence and ability to quickly connect with any crowd. Armed with his hilarious comedic musical parodies\, there is no limit to his talent which makes him a force to be reckoned with. \n\n\n\n\n\n\n\n\nGet your tickets now! [Click Here]
URL:https://winterhavenlol.com/event/spunky-thursday-sept-1/
LOCATION:Laugh Out Lounge\, 19 3rd Street NW\, Winter Haven\, FL\, 33881\, United States
CATEGORIES:Stand Up Comedian
ATTACH;FMTTYPE=image/jpeg:https://winterhavenlol.com/wp-content/uploads/2022/08/Spunky-Sept-1.jpg
ORGANIZER;CN="Laugh Out Lounge":MAILTO:maccentralllc@gmail.com
END:VEVENT
END:VCALENDAR