BEGIN:VCALENDAR
VERSION:2.0
PRODID:-//Laugh Out Lounge - ECPv6.15.20//NONSGML v1.0//EN
CALSCALE:GREGORIAN
METHOD:PUBLISH
X-WR-CALNAME:Laugh Out Lounge
X-ORIGINAL-URL:https://winterhavenlol.com
X-WR-CALDESC:Events for Laugh Out Lounge
REFRESH-INTERVAL;VALUE=DURATION:PT1H
X-Robots-Tag:noindex
X-PUBLISHED-TTL:PT1H
BEGIN:VTIMEZONE
TZID:UTC
BEGIN:STANDARD
TZOFFSETFROM:+0000
TZOFFSETTO:+0000
TZNAME:UTC
DTSTART:20210101T000000
END:STANDARD
END:VTIMEZONE
BEGIN:VEVENT
DTSTART;TZID=UTC:20220728T190000
DTEND;TZID=UTC:20220728T200000
DTSTAMP:20260424T101009
CREATED:20220621T182848Z
LAST-MODIFIED:20220621T182848Z
UID:1801-1659034800-1659038400@winterhavenlol.com
SUMMARY:Terry Ward | July 28
DESCRIPTION:Get Tickets Here!\n\n\n\nTerry Ward Comedy Magic! As seen at: Walt Disney World\, Coca Cola\, Nestle\n\n\n\nClick to Learn More: \n\nLaugh Out Lounge is proud to welcome Terry Ward's Comedy Magic Show! Terry has performed for major coorporations including Walt Disney World\, Coca Cola\, Nestle and so many more! He brings his talents for one night only to the LOL stage! Tickets are just $15 in advance ($20 at the door). Don't miss it!  More about Terry:  Magician Terry Ward has performed for the most prestigious companies including\, Fortune 500 companies such as Coca-Cola\, Nestle Carnation\, GE\, AT&T\, and Walt Disney World. Using his dynamic personality\, he brings the artistry of magic to a new dimension. By combining comedy and audience participation\, Terry will keep you laughing and well entertained throughout his performance.Terry Ward is a proven performer of many talents. Magician\, actor\, master of ceremonies\, man of many dialects\, television actor and script writer\, and consultant for television and theater productions.Wherever and whatever the event\, you can expect Terry will entertain you with the unexpected. \n\n\n\n\n\n\n\n\nGet your tickets now! [Click Here]
URL:https://winterhavenlol.com/event/terry-ward-magic-show/
LOCATION:Laugh Out Lounge\, 19 3rd Street NW\, Winter Haven\, FL\, 33881\, United States
CATEGORIES:Stand Up Comedian
ATTACH;FMTTYPE=image/jpeg:https://winterhavenlol.com/wp-content/uploads/2022/06/Terry-Ward-scaled.jpg
ORGANIZER;CN="Laugh Out Lounge":MAILTO:maccentralllc@gmail.com
END:VEVENT
END:VCALENDAR